BEGIN:VCALENDAR
VERSION:2.0
PRODID: Officenet Systems Ltd.
BEGIN:VTIMEZONE
TZID:Europe/London
BEGIN:STANDARD
DTSTART:20241027T010000
TZOFFSETFROM:+0100
TZOFFSETTO:+0000
TZNAME:GMT
END:STANDARD
BEGIN:DAYLIGHT
DTSTART:20240331T010000
TZOFFSETFROM:+0000
TZOFFSETTO:+0100
TZNAME:BST
END:DAYLIGHT
END:VTIMEZONE
BEGIN:VEVENT
DTSTAMP:20230427T140000Z
UID:https://cottandco.com/pl/lots/auction/3210---short-notice-sale---rd-kukaabbfanuc-industrial-robots-surface-finishing-equipment-machine-tools-material-handling-equipment-surplus-to-the-ongoing-requirements-of-a-retained-client
URL:https://cottandco.com/pl/lots/auction/3210---short-notice-sale---rd-kukaabbfanuc-industrial-robots-surface-finishing-equipment-machine-tools-material-handling-equipment-surplus-to-the-ongoing-requirements-of-a-retained-client
CATEGORIES:AUCTION
ORGANIZER;CN=Cottrill & Co:MAILTO:info@cottandco.com
DTSTART;TZID=Europe/London:20230427T140000
DTEND;TZID=Europe/London:20230427T150000
SUMMARY: 3210 - Short Notice Sale - R&D Kuka/ABB/Fanuc Industrial Robots, Surface Finishing Equipment, Machine Tools, Material Handling Equipment surplus to the ongoing requirements of a retained client.
DESCRIPTION:3210 - Short Notice Sale - R&D Kuka/ABB/Fanuc Industrial Robots, Surface Finishing Equipment, Machine Tools, Material Handling Equipment surplus to the ongoing requirements of a retained client.
END:VEVENT
END:VCALENDAR
