BEGIN:VCALENDAR
VERSION:2.0
PRODID: Officenet Systems Ltd.
BEGIN:VTIMEZONE
TZID:Europe/London
BEGIN:STANDARD
DTSTART:20241027T010000
TZOFFSETFROM:+0100
TZOFFSETTO:+0000
TZNAME:GMT
END:STANDARD
BEGIN:DAYLIGHT
DTSTART:20240331T010000
TZOFFSETFROM:+0000
TZOFFSETTO:+0100
TZNAME:BST
END:DAYLIGHT
END:VTIMEZONE
BEGIN:VEVENT
DTSTAMP:20211207T140000Z
UID:https://cottandco.com/es/lots/auction/3064---xyz-milling-machine-denford-colchester-smart--brown-lathes-jones--shipman-grinders-and-other-ancillary-equipment
URL:https://cottandco.com/es/lots/auction/3064---xyz-milling-machine-denford-colchester-smart--brown-lathes-jones--shipman-grinders-and-other-ancillary-equipment
CATEGORIES:AUCTION
ORGANIZER;CN=Cottrill & Co:MAILTO:info@cottandco.com
DTSTART;TZID=Europe/London:20211207T140000
DTEND;TZID=Europe/London:20211207T150000
SUMMARY: 3064 - XYZ Milling Machine, Denford, Colchester, Smart & Brown Lathes, Jones & Shipman Grinders and other Ancillary Equipment no longer required by Aliva Ltd & Others
DESCRIPTION:3064 - XYZ Milling Machine, Denford, Colchester, Smart & Brown Lathes, Jones & Shipman Grinders and other Ancillary Equipment no longer required by Aliva Ltd & Others
END:VEVENT
END:VCALENDAR
