BEGIN:VCALENDAR
VERSION:2.0
PRODID: Officenet Systems Ltd.
BEGIN:VTIMEZONE
TZID:Europe/London
BEGIN:STANDARD
DTSTART:20241027T010000
TZOFFSETFROM:+0100
TZOFFSETTO:+0000
TZNAME:GMT
END:STANDARD
BEGIN:DAYLIGHT
DTSTART:20240331T010000
TZOFFSETFROM:+0000
TZOFFSETTO:+0100
TZNAME:BST
END:DAYLIGHT
END:VTIMEZONE
BEGIN:VEVENT
DTSTAMP:20260528T140000Z
UID:https://cottandco.com/en/lots/auction/4276--3472---doosan-machining---turning-centres--tornos-sliding-head-lathe-and-charmilles-wire-cut-edm--removed-for-convenience-of-sale
URL:https://cottandco.com/en/lots/auction/4276--3472---doosan-machining---turning-centres--tornos-sliding-head-lathe-and-charmilles-wire-cut-edm--removed-for-convenience-of-sale
CATEGORIES:AUCTION
ORGANIZER;CN=Cottrill & Co:MAILTO:info@cottandco.com
DTSTART;TZID=Europe/London:20260528T140000
DTEND;TZID=Europe/London:20260528T150000
SUMMARY: 3472 - Doosan Machining & Turning Centres, Tornos Sliding Head Lathe and Charmilles Wire-Cut EDM, removed for convenience of sale
DESCRIPTION:3472 - Doosan Machining & Turning Centres, Tornos Sliding Head Lathe and Charmilles Wire-Cut EDM, removed for convenience of sale
END:VEVENT
END:VCALENDAR
