BEGIN:VCALENDAR
VERSION:2.0
PRODID: Officenet Systems Ltd.
BEGIN:VTIMEZONE
TZID:Europe/London
BEGIN:STANDARD
DTSTART:20241027T010000
TZOFFSETFROM:+0100
TZOFFSETTO:+0000
TZNAME:GMT
END:STANDARD
BEGIN:DAYLIGHT
DTSTART:20240331T010000
TZOFFSETFROM:+0000
TZOFFSETTO:+0100
TZNAME:BST
END:DAYLIGHT
END:VTIMEZONE
BEGIN:VEVENT
DTSTAMP:20251215T140000Z
UID:https://cottandco.com/en/lots/auction/4229--3431u---
URL:https://cottandco.com/en/lots/auction/4229--3431u---
CATEGORIES:AUCTION
ORGANIZER;CN=Cottrill & Co:MAILTO:info@cottandco.com
DTSTART;TZID=Europe/London:20251215T140000
DTEND;TZID=Europe/London:20251215T150000
SUMMARY: 3431U - Short Notice Sale – (2016) Trumpf 5040 Flatbed Fibre Laser Cutter Re-Offered due to failed export order, Motor Vehicles and last remaining items previously used by C Brown & Sons (Steel) Ltd
DESCRIPTION:3431U - Short Notice Sale – (2016) Trumpf 5040 Flatbed Fibre Laser Cutter Re-Offered due to failed export order, Motor Vehicles and last remaining items previously used by C Brown & Sons (Steel) Ltd
END:VEVENT
END:VCALENDAR
