BEGIN:VCALENDAR
VERSION:2.0
PRODID: Officenet Systems Ltd.
BEGIN:VTIMEZONE
TZID:Europe/London
BEGIN:STANDARD
DTSTART:20241027T010000
TZOFFSETFROM:+0100
TZOFFSETTO:+0000
TZNAME:GMT
END:STANDARD
BEGIN:DAYLIGHT
DTSTART:20240331T010000
TZOFFSETFROM:+0000
TZOFFSETTO:+0100
TZNAME:BST
END:DAYLIGHT
END:VTIMEZONE
BEGIN:VEVENT
DTSTAMP:20260122T140000Z
UID:https://cottandco.com/en/lots/auction/4228--3444---exceptional-offering-of-late-model-dmg-mori-mill-turn-lathes--dahlih-kitamura-dmg-mori-horizontal---vertical-machining-centres--lang-vices--dea-scirocco-cmm--inspection-equipment--toolroom-machinery-previously-used-by-bsl-industries-ltd
URL:https://cottandco.com/en/lots/auction/4228--3444---exceptional-offering-of-late-model-dmg-mori-mill-turn-lathes--dahlih-kitamura-dmg-mori-horizontal---vertical-machining-centres--lang-vices--dea-scirocco-cmm--inspection-equipment--toolroom-machinery-previously-used-by-bsl-industries-ltd
CATEGORIES:AUCTION
ORGANIZER;CN=Cottrill & Co:MAILTO:info@cottandco.com
DTSTART;TZID=Europe/London:20260122T140000
DTEND;TZID=Europe/London:20260122T150000
SUMMARY: 3444 - Exceptional Offering of Late Model DMG Mori Mill/Turn Lathes, Dahlih/Kitamura/DMG Mori Horizontal & Vertical Machining Centres, Lang Vices, DEA Scirocco CMM, Inspection Equipment, Toolroom Machinery previously used by BSL Industries Ltd
DESCRIPTION:3444 - Exceptional Offering of Late Model DMG Mori Mill/Turn Lathes, Dahlih/Kitamura/DMG Mori Horizontal & Vertical Machining Centres, Lang Vices, DEA Scirocco CMM, Inspection Equipment, Toolroom Machinery previously used by BSL Industries Ltd
END:VEVENT
END:VCALENDAR
