BEGIN:VCALENDAR
VERSION:2.0
PRODID: Officenet Systems Ltd.
BEGIN:VTIMEZONE
TZID:Europe/London
BEGIN:STANDARD
DTSTART:20241027T010000
TZOFFSETFROM:+0100
TZOFFSETTO:+0000
TZNAME:GMT
END:STANDARD
BEGIN:DAYLIGHT
DTSTART:20240331T010000
TZOFFSETFROM:+0000
TZOFFSETTO:+0100
TZNAME:BST
END:DAYLIGHT
END:VTIMEZONE
BEGIN:VEVENT
DTSTAMP:20251218T140000Z
UID:https://cottandco.com/en/lots/auction/4222--3437---mazak-quick-turn-smart-200m--2011----mazak-variaxis-500-5xii-machining-centre--2007--formerly-used-by-cerro-ems--removed-for-convenience-of-sale
URL:https://cottandco.com/en/lots/auction/4222--3437---mazak-quick-turn-smart-200m--2011----mazak-variaxis-500-5xii-machining-centre--2007--formerly-used-by-cerro-ems--removed-for-convenience-of-sale
CATEGORIES:AUCTION
ORGANIZER;CN=Cottrill & Co:MAILTO:info@cottandco.com
DTSTART;TZID=Europe/London:20251218T140000
DTEND;TZID=Europe/London:20251218T150000
SUMMARY: 3440 - Mazak Quick Turn Smart 200M (2011) & Mazak Variaxis 500-5XII Machining Centre (2007) formerly used by Cerro EMS, removed for convenience of sale
DESCRIPTION:3440 - Mazak Quick Turn Smart 200M (2011) & Mazak Variaxis 500-5XII Machining Centre (2007) formerly used by Cerro EMS, removed for convenience of sale
END:VEVENT
END:VCALENDAR
