BEGIN:VCALENDAR
VERSION:2.0
PRODID: Officenet Systems Ltd.
BEGIN:VTIMEZONE
TZID:Europe/London
BEGIN:STANDARD
DTSTART:20241027T010000
TZOFFSETFROM:+0100
TZOFFSETTO:+0000
TZNAME:GMT
END:STANDARD
BEGIN:DAYLIGHT
DTSTART:20240331T010000
TZOFFSETFROM:+0000
TZOFFSETTO:+0100
TZNAME:BST
END:DAYLIGHT
END:VTIMEZONE
BEGIN:VEVENT
DTSTAMP:20251211T130000Z
UID:https://cottandco.com/en/lots/auction/4219--3418---cnc-machines
URL:https://cottandco.com/en/lots/auction/4219--3418---cnc-machines
CATEGORIES:AUCTION
ORGANIZER;CN=Cottrill & Co:MAILTO:info@cottandco.com
DTSTART;TZID=Europe/London:20251211T130000
DTEND;TZID=Europe/London:20251211T140000
SUMMARY: 3418U - Final Phase – Last Remaining Items – Doosan HBM1250, Linea Horizontal Machining Centres, O-M VTL/Mori Seiki/Muratec/Mazak/Okuma CNC Turning Centres, Tooling & Inspection Equipment previously used by Rexnord Tollok Srl
DESCRIPTION:3418U - Final Phase – Last Remaining Items – Doosan HBM1250, Linea Horizontal Machining Centres, O-M VTL/Mori Seiki/Muratec/Mazak/Okuma CNC Turning Centres, Tooling & Inspection Equipment previously used by Rexnord Tollok Srl
END:VEVENT
END:VCALENDAR
