BEGIN:VCALENDAR
VERSION:2.0
PRODID: Officenet Systems Ltd.
BEGIN:VTIMEZONE
TZID:Europe/London
BEGIN:STANDARD
DTSTART:20241027T010000
TZOFFSETFROM:+0100
TZOFFSETTO:+0000
TZNAME:GMT
END:STANDARD
BEGIN:DAYLIGHT
DTSTART:20240331T010000
TZOFFSETFROM:+0000
TZOFFSETTO:+0100
TZNAME:BST
END:DAYLIGHT
END:VTIMEZONE
BEGIN:VEVENT
DTSTAMP:20251112T140000Z
UID:https://cottandco.com/en/lots/auction/4214--3400u---2-x-tornos-multideco-26-6-multi-spindle-lathes-surplus-to-the-ongoing-requirements-of-a-retained-client
URL:https://cottandco.com/en/lots/auction/4214--3400u---2-x-tornos-multideco-26-6-multi-spindle-lathes-surplus-to-the-ongoing-requirements-of-a-retained-client
CATEGORIES:AUCTION
ORGANIZER;CN=Cottrill & Co:MAILTO:info@cottandco.com
DTSTART;TZID=Europe/London:20251112T140000
DTEND;TZID=Europe/London:20251112T150000
SUMMARY: 3400U - 2 x Tornos MultiDeco 26/6 Multi-Spindle Lathes surplus to the ongoing requirements of a retained client
DESCRIPTION:3400U - 2 x Tornos MultiDeco 26/6 Multi-Spindle Lathes surplus to the ongoing requirements of a retained client
END:VEVENT
END:VCALENDAR
