BEGIN:VCALENDAR
VERSION:2.0
PRODID: Officenet Systems Ltd.
BEGIN:VTIMEZONE
TZID:Europe/London
BEGIN:STANDARD
DTSTART:20241027T010000
TZOFFSETFROM:+0100
TZOFFSETTO:+0000
TZNAME:GMT
END:STANDARD
BEGIN:DAYLIGHT
DTSTART:20240331T010000
TZOFFSETFROM:+0000
TZOFFSETTO:+0100
TZNAME:BST
END:DAYLIGHT
END:VTIMEZONE
BEGIN:VEVENT
DTSTAMP:20251104T140000Z
UID:https://cottandco.com/en/lots/auction/4209--3422u---
URL:https://cottandco.com/en/lots/auction/4209--3422u---
CATEGORIES:AUCTION
ORGANIZER;CN=Cottrill & Co:MAILTO:info@cottandco.com
DTSTART;TZID=Europe/London:20251104T140000
DTEND;TZID=Europe/London:20251104T150000
SUMMARY: 3422U - Short Notice Sale – Must be sold: 2016 LVD Electra FL3015 3KW Fibre Laser Cutter & Promecam CTH425 Powered Guillotine
DESCRIPTION:3422U - Short Notice Sale – Must be sold: 2016 LVD Electra FL3015 3KW Fibre Laser Cutter & Promecam CTH425 Powered Guillotine
END:VEVENT
END:VCALENDAR
