BEGIN:VCALENDAR
VERSION:2.0
PRODID: Officenet Systems Ltd.
BEGIN:VTIMEZONE
TZID:Europe/London
BEGIN:STANDARD
DTSTART:20241027T010000
TZOFFSETFROM:+0100
TZOFFSETTO:+0000
TZNAME:GMT
END:STANDARD
BEGIN:DAYLIGHT
DTSTART:20240331T010000
TZOFFSETFROM:+0000
TZOFFSETTO:+0100
TZNAME:BST
END:DAYLIGHT
END:VTIMEZONE
BEGIN:VEVENT
DTSTAMP:20251119T140000Z
UID:https://cottandco.com/en/lots/auction/4201--3431a---provisional-notice-of-sale---range-of-daf--volvo--man-hgv-tractor-units--steel-haulage-trailers--terberg-terminal-tractors--commercial-vehicles-and-garage-equipment-previously-used-by-c-brown---sons--steel--ltd
URL:https://cottandco.com/en/lots/auction/4201--3431a---provisional-notice-of-sale---range-of-daf--volvo--man-hgv-tractor-units--steel-haulage-trailers--terberg-terminal-tractors--commercial-vehicles-and-garage-equipment-previously-used-by-c-brown---sons--steel--ltd
CATEGORIES:AUCTION
ORGANIZER;CN=Cottrill & Co:MAILTO:info@cottandco.com
DTSTART;TZID=Europe/London:20251119T140000
DTEND;TZID=Europe/London:20251119T150000
SUMMARY: 3431A - Range of DAF, Volvo, MAN HGV Tractor Units, Steel Haulage Trailers, Terberg Terminal Tractors, Commercial Vehicles and Garage Equipment previously used by C Brown & Sons (Steel) Ltd
DESCRIPTION:3431A - Range of DAF, Volvo, MAN HGV Tractor Units, Steel Haulage Trailers, Terberg Terminal Tractors, Commercial Vehicles and Garage Equipment previously used by C Brown & Sons (Steel) Ltd
END:VEVENT
END:VCALENDAR
