BEGIN:VCALENDAR
VERSION:2.0
PRODID: Officenet Systems Ltd.
BEGIN:VTIMEZONE
TZID:Europe/London
BEGIN:STANDARD
DTSTART:20241027T010000
TZOFFSETFROM:+0100
TZOFFSETTO:+0000
TZNAME:GMT
END:STANDARD
BEGIN:DAYLIGHT
DTSTART:20240331T010000
TZOFFSETFROM:+0000
TZOFFSETTO:+0100
TZNAME:BST
END:DAYLIGHT
END:VTIMEZONE
BEGIN:VEVENT
DTSTAMP:20250416T140000Z
UID:https://cottandco.com/en/lots/auction/3387---range-of-star-sliding-head--emco-cnc-lathes-fanuc-robodrill--bridgeport-machining-centres-fanuc-wire-eroder-toolroom-machinery--inspection-equipment-previously-used-by-macvere-engineering-ltd
URL:https://cottandco.com/en/lots/auction/3387---range-of-star-sliding-head--emco-cnc-lathes-fanuc-robodrill--bridgeport-machining-centres-fanuc-wire-eroder-toolroom-machinery--inspection-equipment-previously-used-by-macvere-engineering-ltd
CATEGORIES:AUCTION
ORGANIZER;CN=Cottrill & Co:MAILTO:info@cottandco.com
DTSTART;TZID=Europe/London:20250416T140000
DTEND;TZID=Europe/London:20250416T150000
SUMMARY: 3387 - Range of Star Sliding Head & Emco CNC Lathes, Fanuc Robodrill & Bridgeport Machining Centres, Fanuc Wire Eroder, Toolroom Machinery & Inspection Equipment previously used by MacVere Engineering Ltd [NEW DATE]
DESCRIPTION:3387 - Range of Star Sliding Head & Emco CNC Lathes, Fanuc Robodrill & Bridgeport Machining Centres, Fanuc Wire Eroder, Toolroom Machinery & Inspection Equipment previously used by MacVere Engineering Ltd [NEW DATE]
END:VEVENT
END:VCALENDAR
