BEGIN:VCALENDAR
VERSION:2.0
PRODID: Officenet Systems Ltd.
BEGIN:VTIMEZONE
TZID:Europe/London
BEGIN:STANDARD
DTSTART:20241027T010000
TZOFFSETFROM:+0100
TZOFFSETTO:+0000
TZNAME:GMT
END:STANDARD
BEGIN:DAYLIGHT
DTSTART:20240331T010000
TZOFFSETFROM:+0000
TZOFFSETTO:+0100
TZNAME:BST
END:DAYLIGHT
END:VTIMEZONE
BEGIN:VEVENT
DTSTAMP:20250220T140000Z
UID:https://cottandco.com/en/lots/auction/3373---re-offered-due-to-frustrated-export--lorenz-ls424-cnc-gear-shaping-machine--liebherr-lc502-cnc-gear-hobbing-machine-previously-used-by-aam-driveline-previously-known-as-albion-automotive-glasgow
URL:https://cottandco.com/en/lots/auction/3373---re-offered-due-to-frustrated-export--lorenz-ls424-cnc-gear-shaping-machine--liebherr-lc502-cnc-gear-hobbing-machine-previously-used-by-aam-driveline-previously-known-as-albion-automotive-glasgow
CATEGORIES:AUCTION
ORGANIZER;CN=Cottrill & Co:MAILTO:info@cottandco.com
DTSTART;TZID=Europe/London:20250220T140000
DTEND;TZID=Europe/London:20250220T150000
SUMMARY: 3373 - Re-offered due to frustrated export – Lorenz LS424 CNC Gear Shaping Machine & Liebherr LC502 CNC Gear Hobbing Machine previously used by AAM Driveline (Previously known as Albion Automotive, Glasgow)
DESCRIPTION:3373 - Re-offered due to frustrated export – Lorenz LS424 CNC Gear Shaping Machine & Liebherr LC502 CNC Gear Hobbing Machine previously used by AAM Driveline (Previously known as Albion Automotive, Glasgow)
END:VEVENT
END:VCALENDAR
