BEGIN:VCALENDAR
VERSION:2.0
PRODID: Officenet Systems Ltd.
BEGIN:VTIMEZONE
TZID:Europe/London
BEGIN:STANDARD
DTSTART:20241027T010000
TZOFFSETFROM:+0100
TZOFFSETTO:+0000
TZNAME:GMT
END:STANDARD
BEGIN:DAYLIGHT
DTSTART:20240331T010000
TZOFFSETFROM:+0000
TZOFFSETTO:+0100
TZNAME:BST
END:DAYLIGHT
END:VTIMEZONE
BEGIN:VEVENT
DTSTAMP:20250205T140000Z
UID:https://cottandco.com/en/lots/auction/3368---late-model-trumpf-trulaser-tube-7000-fiber-cutting-machine-2021
URL:https://cottandco.com/en/lots/auction/3368---late-model-trumpf-trulaser-tube-7000-fiber-cutting-machine-2021
CATEGORIES:AUCTION
ORGANIZER;CN=Cottrill & Co:MAILTO:info@cottandco.com
DTSTART;TZID=Europe/London:20250205T140000
DTEND;TZID=Europe/London:20250205T150000
SUMMARY: 3368 - Late Model Trumpf TruLaser Tube 7000 Fiber Cutting Machine (2021)
DESCRIPTION:3368 - Late Model Trumpf TruLaser Tube 7000 Fiber Cutting Machine (2021)
END:VEVENT
END:VCALENDAR
