BEGIN:VCALENDAR
VERSION:2.0
PRODID: Officenet Systems Ltd.
BEGIN:VTIMEZONE
TZID:Europe/London
BEGIN:STANDARD
DTSTART:20241027T010000
TZOFFSETFROM:+0100
TZOFFSETTO:+0000
TZNAME:GMT
END:STANDARD
BEGIN:DAYLIGHT
DTSTART:20240331T010000
TZOFFSETFROM:+0000
TZOFFSETTO:+0100
TZNAME:BST
END:DAYLIGHT
END:VTIMEZONE
BEGIN:VEVENT
DTSTAMP:20241126T140000Z
UID:https://cottandco.com/en/lots/auction/3354---mori-seiki-nt4250dcg-x-1500-5-axis-turnmill-cnc-turning-centre-2015-and-dmg-mori-nhx-4000-cnc-horizontal-machining-centre-2014
URL:https://cottandco.com/en/lots/auction/3354---mori-seiki-nt4250dcg-x-1500-5-axis-turnmill-cnc-turning-centre-2015-and-dmg-mori-nhx-4000-cnc-horizontal-machining-centre-2014
CATEGORIES:AUCTION
ORGANIZER;CN=Cottrill & Co:MAILTO:info@cottandco.com
DTSTART;TZID=Europe/London:20241126T140000
DTEND;TZID=Europe/London:20241126T150000
SUMMARY: 3354 - Mori Seiki NT4250DCG x 1,500 5 Axis Turn/Mill CNC Turning Centre (2015) and DMG Mori NHX 4000 CNC Horizontal Machining Centre (2014)
DESCRIPTION:3354 - Mori Seiki NT4250DCG x 1,500 5 Axis Turn/Mill CNC Turning Centre (2015) and DMG Mori NHX 4000 CNC Horizontal Machining Centre (2014)
END:VEVENT
END:VCALENDAR
