BEGIN:VCALENDAR
VERSION:2.0
PRODID: Officenet Systems Ltd.
BEGIN:VTIMEZONE
TZID:Europe/London
BEGIN:STANDARD
DTSTART:20241027T010000
TZOFFSETFROM:+0100
TZOFFSETTO:+0000
TZNAME:GMT
END:STANDARD
BEGIN:DAYLIGHT
DTSTART:20240331T010000
TZOFFSETFROM:+0000
TZOFFSETTO:+0100
TZNAME:BST
END:DAYLIGHT
END:VTIMEZONE
BEGIN:VEVENT
DTSTAMP:20240110T140000Z
UID:https://cottandco.com/en/lots/auction/3279---range-of-haas-toyoda-mazak-xyz-machining--turning-centres-and-toolroom-machinery-surplus-to-the-ongoing-requirements-of-cordelle-precision-engineering
URL:https://cottandco.com/en/lots/auction/3279---range-of-haas-toyoda-mazak-xyz-machining--turning-centres-and-toolroom-machinery-surplus-to-the-ongoing-requirements-of-cordelle-precision-engineering
CATEGORIES:AUCTION
ORGANIZER;CN=Cottrill & Co:MAILTO:info@cottandco.com
DTSTART;TZID=Europe/London:20240110T140000
DTEND;TZID=Europe/London:20240110T150000
SUMMARY: 3279 - Range of Haas, Toyoda, Mazak, XYZ Machining & Turning Centres and Toolroom Machinery surplus to the ongoing requirements of Cordelle Precision Engineering
DESCRIPTION:3279 - Range of Haas, Toyoda, Mazak, XYZ Machining & Turning Centres and Toolroom Machinery surplus to the ongoing requirements of Cordelle Precision Engineering
END:VEVENT
END:VCALENDAR
