BEGIN:VCALENDAR
VERSION:2.0
PRODID: Officenet Systems Ltd.
BEGIN:VTIMEZONE
TZID:Europe/London
BEGIN:STANDARD
DTSTART:20241027T010000
TZOFFSETFROM:+0100
TZOFFSETTO:+0000
TZNAME:GMT
END:STANDARD
BEGIN:DAYLIGHT
DTSTART:20240331T010000
TZOFFSETFROM:+0000
TZOFFSETTO:+0100
TZNAME:BST
END:DAYLIGHT
END:VTIMEZONE
BEGIN:VEVENT
DTSTAMP:20210218T140000Z
UID:https://cottandco.com/en/lots/auction/2975---mazak--colchester-lathes-xyz-turret-mill-charmilles-edm-machine-and-extraction-units-surplus-to-requirements
URL:https://cottandco.com/en/lots/auction/2975---mazak--colchester-lathes-xyz-turret-mill-charmilles-edm-machine-and-extraction-units-surplus-to-requirements
CATEGORIES:AUCTION
ORGANIZER;CN=Cottrill & Co:MAILTO:info@cottandco.com
DTSTART;TZID=Europe/London:20210218T140000
DTEND;TZID=Europe/London:20210218T150000
SUMMARY: 2975 - Mazak, Haas & Colchester Lathes, DMG VMC, XYZ Turret Mill, Charmilles EDM Machine and Extraction Units surplus to requirements
DESCRIPTION:2975 - Mazak, Haas & Colchester Lathes, DMG VMC, XYZ Turret Mill, Charmilles EDM Machine and Extraction Units surplus to requirements
END:VEVENT
END:VCALENDAR
