BEGIN:VCALENDAR
VERSION:2.0
PRODID: Officenet Systems Ltd.
BEGIN:VTIMEZONE
TZID:Europe/London
BEGIN:STANDARD
DTSTART:20241027T010000
TZOFFSETFROM:+0100
TZOFFSETTO:+0000
TZNAME:GMT
END:STANDARD
BEGIN:DAYLIGHT
DTSTART:20240331T010000
TZOFFSETFROM:+0000
TZOFFSETTO:+0100
TZNAME:BST
END:DAYLIGHT
END:VTIMEZONE
BEGIN:VEVENT
DTSTAMP:20201014T140000Z
UID:https://cottandco.com/en/lots/auction/2928---phase-2---unique-opportunity-to-purchase-exceptional-quality-cnc-citizen-sliding-head--miyano-multi-axis-lathes-due-to-the-retirement-of-the-director-at-paragon-precision-products-
URL:https://cottandco.com/en/lots/auction/2928---phase-2---unique-opportunity-to-purchase-exceptional-quality-cnc-citizen-sliding-head--miyano-multi-axis-lathes-due-to-the-retirement-of-the-director-at-paragon-precision-products-
CATEGORIES:AUCTION
ORGANIZER;CN=Cottrill & Co:MAILTO:info@cottandco.com
DTSTART;TZID=Europe/London:20201014T140000
DTEND;TZID=Europe/London:20201014T150000
SUMMARY: 2928 - Phase 2 - Unique Opportunity to purchase Exceptional Quality CNC Citizen Sliding Head Multi Axis Lathes due to the Retirement of the Director at Paragon Precision Products 
DESCRIPTION:2928 - Phase 2 - Unique Opportunity to purchase Exceptional Quality CNC Citizen Sliding Head Multi Axis Lathes due to the Retirement of the Director at Paragon Precision Products 
END:VEVENT
END:VCALENDAR
