BEGIN:VCALENDAR
VERSION:2.0
PRODID: Officenet Systems Ltd.
BEGIN:VTIMEZONE
TZID:Europe/London
BEGIN:STANDARD
DTSTART:20241027T010000
TZOFFSETFROM:+0100
TZOFFSETTO:+0000
TZNAME:GMT
END:STANDARD
BEGIN:DAYLIGHT
DTSTART:20240331T010000
TZOFFSETFROM:+0000
TZOFFSETTO:+0100
TZNAME:BST
END:DAYLIGHT
END:VTIMEZONE
BEGIN:VEVENT
DTSTAMP:20190305T102111Z
UID:https://cottandco.com/en/lots/auction/2764a---wpl-presale
URL:https://cottandco.com/en/lots/auction/2764a---wpl-presale
CATEGORIES:AUCTION
ORGANIZER;CN=Cottrill & Co:MAILTO:info@cottandco.com
DTSTART;TZID=Europe/London:20190305T102111
DTEND;TZID=Europe/London:20190305T112111
SUMMARY: 2764A - WPL Presale
DESCRIPTION:2764A - WPL Presale
END:VEVENT
END:VCALENDAR
