BEGIN:VCALENDAR
VERSION:2.0
PRODID: Officenet Systems Ltd.
BEGIN:VTIMEZONE
TZID:Europe/London
BEGIN:STANDARD
DTSTART:20241027T010000
TZOFFSETFROM:+0100
TZOFFSETTO:+0000
TZNAME:GMT
END:STANDARD
BEGIN:DAYLIGHT
DTSTART:20240331T010000
TZOFFSETFROM:+0000
TZOFFSETTO:+0100
TZNAME:BST
END:DAYLIGHT
END:VTIMEZONE
BEGIN:VEVENT
DTSTAMP:20180814T140000Z
UID:https://cottandco.com/en/lots/auction/2693---hot-wire-tig-welding-machines-esab-narrow-gap-welding-system-turntable-positioners-cherry-picker-work-platform-previously-used-in-the-oil--gas-industry
URL:https://cottandco.com/en/lots/auction/2693---hot-wire-tig-welding-machines-esab-narrow-gap-welding-system-turntable-positioners-cherry-picker-work-platform-previously-used-in-the-oil--gas-industry
CATEGORIES:AUCTION
ORGANIZER;CN=Cottrill & Co:MAILTO:info@cottandco.com
DTSTART;TZID=Europe/London:20180814T140000
DTEND;TZID=Europe/London:20180814T150000
SUMMARY: 2693 - Hot Wire Tig Welding Machines, Esab Narrow Gap Welding System, Turntable Positioners, Cherry Picker Work Platform Previously Used in The Oil & Gas Industry.
DESCRIPTION:2693 - Hot Wire Tig Welding Machines, Esab Narrow Gap Welding System, Turntable Positioners, Cherry Picker Work Platform Previously Used in The Oil & Gas Industry.
END:VEVENT
END:VCALENDAR
