BEGIN:VCALENDAR
VERSION:2.0
PRODID: Officenet Systems Ltd.
BEGIN:VTIMEZONE
TZID:Europe/London
BEGIN:STANDARD
DTSTART:20241027T010000
TZOFFSETFROM:+0100
TZOFFSETTO:+0000
TZNAME:GMT
END:STANDARD
BEGIN:DAYLIGHT
DTSTART:20240331T010000
TZOFFSETFROM:+0000
TZOFFSETTO:+0100
TZNAME:BST
END:DAYLIGHT
END:VTIMEZONE
BEGIN:VEVENT
DTSTAMP:20180607T140000Z
UID:https://cottandco.com/en/lots/auction/2672---cnc-lathes-machining-centres-conventional-equipment-and-ancillaries-no-longer-required-by-a-unique-ltd
URL:https://cottandco.com/en/lots/auction/2672---cnc-lathes-machining-centres-conventional-equipment-and-ancillaries-no-longer-required-by-a-unique-ltd
CATEGORIES:AUCTION
ORGANIZER;CN=Cottrill & Co:MAILTO:info@cottandco.com
DTSTART;TZID=Europe/London:20180607T140000
DTEND;TZID=Europe/London:20180607T150000
SUMMARY: 2672 - CNC Lathes, Machining Centres, Conventional Equipment and Ancillaries no longer required by A Unique Ltd
DESCRIPTION:2672 - CNC Lathes, Machining Centres, Conventional Equipment and Ancillaries no longer required by A Unique Ltd
END:VEVENT
END:VCALENDAR
