BEGIN:VCALENDAR
VERSION:2.0
PRODID: Officenet Systems Ltd.
BEGIN:VTIMEZONE
TZID:Europe/London
BEGIN:STANDARD
DTSTART:20241027T010000
TZOFFSETFROM:+0100
TZOFFSETTO:+0000
TZNAME:GMT
END:STANDARD
BEGIN:DAYLIGHT
DTSTART:20240331T010000
TZOFFSETFROM:+0000
TZOFFSETTO:+0100
TZNAME:BST
END:DAYLIGHT
END:VTIMEZONE
BEGIN:VEVENT
DTSTAMP:20171211T080000Z
UID:https://cottandco.com/en/lots/auction/2636---pullmax-pullmatic-126-punching-machine-no-longer-required-by-masonry-support-company
URL:https://cottandco.com/en/lots/auction/2636---pullmax-pullmatic-126-punching-machine-no-longer-required-by-masonry-support-company
CATEGORIES:AUCTION
ORGANIZER;CN=Cottrill & Co:MAILTO:info@cottandco.com
DTSTART;TZID=Europe/London:20171211T080000
DTEND;TZID=Europe/London:20171211T090000
SUMMARY: 2636 - Pullmax Pullmatic 126 Punching Machine no longer required by Masonry Support Company
DESCRIPTION:2636 - Pullmax Pullmatic 126 Punching Machine no longer required by Masonry Support Company
END:VEVENT
END:VCALENDAR
