BEGIN:VCALENDAR
VERSION:2.0
PRODID: Officenet Systems Ltd.
BEGIN:VTIMEZONE
TZID:Europe/London
BEGIN:STANDARD
DTSTART:20241027T010000
TZOFFSETFROM:+0100
TZOFFSETTO:+0000
TZNAME:GMT
END:STANDARD
BEGIN:DAYLIGHT
DTSTART:20240331T010000
TZOFFSETFROM:+0000
TZOFFSETTO:+0100
TZNAME:BST
END:DAYLIGHT
END:VTIMEZONE
BEGIN:VEVENT
DTSTAMP:20180123T140000Z
UID:https://cottandco.com/en/lots/auction/2630---machining-centres-borers-milling-grinding-machines-and-ancillary-items-no-longer-required-by-manufacturing-company
URL:https://cottandco.com/en/lots/auction/2630---machining-centres-borers-milling-grinding-machines-and-ancillary-items-no-longer-required-by-manufacturing-company
CATEGORIES:AUCTION
ORGANIZER;CN=Cottrill & Co:MAILTO:info@cottandco.com
DTSTART;TZID=Europe/London:20180123T140000
DTEND;TZID=Europe/London:20180123T150000
SUMMARY: 2630 - Machining Centres, Borers, Milling, Grinding Machines and Ancillary items no longer required by Manufacturing Company
DESCRIPTION:2630 - Machining Centres, Borers, Milling, Grinding Machines and Ancillary items no longer required by Manufacturing Company
END:VEVENT
END:VCALENDAR
