BEGIN:VCALENDAR
VERSION:2.0
PRODID: Officenet Systems Ltd.
BEGIN:VTIMEZONE
TZID:Europe/London
BEGIN:STANDARD
DTSTART:20241027T010000
TZOFFSETFROM:+0100
TZOFFSETTO:+0000
TZNAME:GMT
END:STANDARD
BEGIN:DAYLIGHT
DTSTART:20240331T010000
TZOFFSETFROM:+0000
TZOFFSETTO:+0100
TZNAME:BST
END:DAYLIGHT
END:VTIMEZONE
BEGIN:VEVENT
DTSTAMP:20170419T140000Z
UID:https://cottandco.com/en/lots/auction/2571---cnc-horizontal-borers-machining-centres--cnc-lathes-by-daewoo-toshiba--scharmann-inspection-welding-pressure-test-factory-support--material-handling-equipment-available-due-to-facility-closure-at-cameron-longford-ireland
URL:https://cottandco.com/en/lots/auction/2571---cnc-horizontal-borers-machining-centres--cnc-lathes-by-daewoo-toshiba--scharmann-inspection-welding-pressure-test-factory-support--material-handling-equipment-available-due-to-facility-closure-at-cameron-longford-ireland
CATEGORIES:AUCTION
ORGANIZER;CN=Cottrill & Co:MAILTO:info@cottandco.com
DTSTART;TZID=Europe/London:20170419T140000
DTEND;TZID=Europe/London:20170419T150000
SUMMARY: 2571 - CNC Horizontal Borers, Machining Centres & Lathes By Daewoo, Toshiba & Scharmann, Inspection, Welding, Pressure Test & Material Handling Equipment available due to Facility Closure at a Manufacturer of Subsea Valves, Chokes & Components
DESCRIPTION:2571 - CNC Horizontal Borers, Machining Centres & Lathes By Daewoo, Toshiba & Scharmann, Inspection, Welding, Pressure Test & Material Handling Equipment available due to Facility Closure at a Manufacturer of Subsea Valves, Chokes & Components
END:VEVENT
END:VCALENDAR
