BEGIN:VCALENDAR
VERSION:2.0
PRODID: Officenet Systems Ltd.
BEGIN:VTIMEZONE
TZID:Europe/London
BEGIN:STANDARD
DTSTART:20241027T010000
TZOFFSETFROM:+0100
TZOFFSETTO:+0000
TZNAME:GMT
END:STANDARD
BEGIN:DAYLIGHT
DTSTART:20240331T010000
TZOFFSETFROM:+0000
TZOFFSETTO:+0100
TZNAME:BST
END:DAYLIGHT
END:VTIMEZONE
BEGIN:VEVENT
DTSTAMP:20161117T140000Z
UID:https://cottandco.com/en/lots/auction/2548---late--modern-cnc-machine-tools--other-associated-equipment-previously-used-by-facts-precision-ltd---unreserved-auction
URL:https://cottandco.com/en/lots/auction/2548---late--modern-cnc-machine-tools--other-associated-equipment-previously-used-by-facts-precision-ltd---unreserved-auction
CATEGORIES:AUCTION
ORGANIZER;CN=Cottrill & Co:MAILTO:info@cottandco.com
DTSTART;TZID=Europe/London:20161117T140000
DTEND;TZID=Europe/London:20161117T150000
SUMMARY: 2548 - Late & Modern CNC Machine Tools & Other Associated Equipment previously used By Facts Precision Ltd - Unreserved Auction
DESCRIPTION:2548 - Late & Modern CNC Machine Tools & Other Associated Equipment previously used By Facts Precision Ltd - Unreserved Auction
END:VEVENT
END:VCALENDAR
