BEGIN:VCALENDAR
VERSION:2.0
PRODID: Officenet Systems Ltd.
BEGIN:VTIMEZONE
TZID:Europe/London
BEGIN:STANDARD
DTSTART:20241027T010000
TZOFFSETFROM:+0100
TZOFFSETTO:+0000
TZNAME:GMT
END:STANDARD
BEGIN:DAYLIGHT
DTSTART:20240331T010000
TZOFFSETFROM:+0000
TZOFFSETTO:+0100
TZNAME:BST
END:DAYLIGHT
END:VTIMEZONE
BEGIN:VEVENT
DTSTAMP:20160414T130000Z
UID:https://cottandco.com/en/lots/auction/2471---high-quality-low-pressure-casting-facility-no-longer-required-due-to-a-major-investment-in-new-process-equipment-by-kohler-mira-ltd
URL:https://cottandco.com/en/lots/auction/2471---high-quality-low-pressure-casting-facility-no-longer-required-due-to-a-major-investment-in-new-process-equipment-by-kohler-mira-ltd
CATEGORIES:AUCTION
ORGANIZER;CN=Cottrill & Co:MAILTO:info@cottandco.com
DTSTART;TZID=Europe/London:20160414T130000
DTEND;TZID=Europe/London:20160414T140000
SUMMARY: 2471 - High Quality Low Pressure Casting Facility no longer required due to a Major Investment in new Process Equipment by Kohler Mira Ltd
DESCRIPTION:2471 - High Quality Low Pressure Casting Facility no longer required due to a Major Investment in new Process Equipment by Kohler Mira Ltd
END:VEVENT
END:VCALENDAR
