BEGIN:VCALENDAR
VERSION:2.0
PRODID: Officenet Systems Ltd.
BEGIN:VTIMEZONE
TZID:Europe/London
BEGIN:STANDARD
DTSTART:20241027T010000
TZOFFSETFROM:+0100
TZOFFSETTO:+0000
TZNAME:GMT
END:STANDARD
BEGIN:DAYLIGHT
DTSTART:20240331T010000
TZOFFSETFROM:+0000
TZOFFSETTO:+0100
TZNAME:BST
END:DAYLIGHT
END:VTIMEZONE
BEGIN:VEVENT
DTSTAMP:20140724T140000Z
UID:https://cottandco.com/en/lots/auction/2317--equipment-previously-used-by-a-uk-carbide-blade-manufacturer--regrinder-of-cutting-tools
URL:https://cottandco.com/en/lots/auction/2317--equipment-previously-used-by-a-uk-carbide-blade-manufacturer--regrinder-of-cutting-tools
CATEGORIES:AUCTION
ORGANIZER;CN=Cottrill & Co:MAILTO:info@cottandco.com
DTSTART;TZID=Europe/London:20140724T140000
DTEND;TZID=Europe/London:20140724T150000
SUMMARY: 2317 – Equipment previously used by a UK Carbide Blade Manufacturer & Regrinder of Cutting Tools
DESCRIPTION:2317 – Equipment previously used by a UK Carbide Blade Manufacturer & Regrinder of Cutting Tools
END:VEVENT
END:VCALENDAR
