BEGIN:VCALENDAR
VERSION:2.0
PRODID: Officenet Systems Ltd.
BEGIN:VTIMEZONE
TZID:Europe/London
BEGIN:STANDARD
DTSTART:20241027T010000
TZOFFSETFROM:+0100
TZOFFSETTO:+0000
TZNAME:GMT
END:STANDARD
BEGIN:DAYLIGHT
DTSTART:20240331T010000
TZOFFSETFROM:+0000
TZOFFSETTO:+0100
TZNAME:BST
END:DAYLIGHT
END:VTIMEZONE
BEGIN:VEVENT
DTSTAMP:20130925T140000Z
UID:https://cottandco.com/en/lots/auction/2232--large-capacity-planing-cnc-bed-milling--manual-machine-tools-formerly-used-by-sorbus-engineering--others
URL:https://cottandco.com/en/lots/auction/2232--large-capacity-planing-cnc-bed-milling--manual-machine-tools-formerly-used-by-sorbus-engineering--others
CATEGORIES:AUCTION
ORGANIZER;CN=Cottrill & Co:MAILTO:info@cottandco.com
DTSTART;TZID=Europe/London:20130925T140000
DTEND;TZID=Europe/London:20130925T150000
SUMMARY: 2232 – Large Capacity Planing, CNC Bed Milling & Manual Machine Tools formerly used by Sorbus Engineering & Others
DESCRIPTION:2232 – Large Capacity Planing, CNC Bed Milling & Manual Machine Tools formerly used by Sorbus Engineering & Others
END:VEVENT
END:VCALENDAR
